BEGIN:VCALENDAR
VERSION:2.0
CALSCALE:GREGORIAN
PRODID:adamgibbons/ics
METHOD:PUBLISH
X-PUBLISHED-TTL:PT1H
BEGIN:VEVENT
UID:58@agenda.morlaixpopulaire.net
SUMMARY:CINÉ - DÉBAT : COMMENT CONTINUER À DÉFENDRE LE VIVANT ?
DTSTAMP:20260422T082027Z
DTSTART:20260428T173000Z
DTEND:20260428T190000Z
DESCRIPTION:Comment continuer à défendre le vivant ?\n\nCiné-Débat proposé 
	par deux étudiants en BTS GPN\n\nEn présence de l'association Éco-Bretons 
	et de militants écologistes du Pays de\nMorlaix\n\nAmphitéatre du Lycée Su
	scinio\n\n
URL:https://agenda.morlaixpopulaire.net/event/cine-debat-comment-continuer-
	a-defendre-le-vivant
GEO:48.6191902;-3.8402052
LOCATION:Lycée Suscinio - Rue du Ménez\, Le Menez\, Ploujean\, Morlaix\, Fi
	nistère\, Bretagne\, France métropolitaine\, 29600\, France
STATUS:CONFIRMED
CATEGORIES:Ciné-Débat,Écologie,Suscinio
X-ALT-DESC;FMTTYPE=text/html:<p>Comment continuer à défendre le vivant ?</p
	><p>Ciné-Débat proposé par deux étudiants en BTS GPN</p><p>En présence de 
	l'association Éco-Bretons et de militants écologistes du Pays de Morlaix</
	p><p>Amphitéatre du Lycée Suscinio</p><p></p>
BEGIN:VALARM
ACTION:DISPLAY
DESCRIPTION:CINÉ - DÉBAT : COMMENT CONTINUER À DÉFENDRE LE VIVANT ?
TRIGGER:-PT1H
END:VALARM
END:VEVENT
END:VCALENDAR
