BEGIN:VCALENDAR
VERSION:2.0
CALSCALE:GREGORIAN
PRODID:adamgibbons/ics
METHOD:PUBLISH
X-PUBLISHED-TTL:PT1H
BEGIN:VEVENT
UID:57@agenda.morlaixpopulaire.net
SUMMARY:1ER MAI - CONFÉRENCE DE HACKING SOCIAL - Les Autoritaires\, que fai
	re ?
DTSTAMP:20260422T070022Z
DTSTART:20260501T103000Z
DTEND:20260501T160000Z
DESCRIPTION:L'Assemblée Populaire de Morlaix a le plaisir de vous proposer 
	un after manif\npour le 1er mai !\n\nDès 12h30 rejoins-nous au 2D (voie d'
	accès au Port) pour un repas et des\nboissons à PRIX LIBRE préparé par les
	 camarades de FAIM DE LUTTES.\n\nPuis à 14h30 nous auront la joie de recev
	oir le collectif Hacking Social pour\nune conférence-débat sur l'autoritar
	isme (sous un angle de psychologie sociale).\n\nIl y aura des tables de pr
	esse sur place (Morlaix Antifa et journal Ça Presse!)\n\nEt pourquoi pas r
	ester ou revenir le soir à 18h pour l'Assemblée Populaire\nhebdomadaire ?!
	\n\nOn vous attend nombreux·ses et déter ! <3\n\n\n\n14H30 : CONFÉRENCE DE
	 HACKING SOCIAL - LES AUTORITAIRES\, QUE FAIRE ?\n\nHacking Social\, c’est
	 un collectif engagé de vulgarisation scientifique en\npsychologie sociale
	 ! Présent·es sur plein de plateformes\, Chayka et Viciss (et\nleur équipe
	) produisent une multitude de contenus\, toujours en accès libre\, pour\np
	ermettre à touxtes de s’en emparer et de changer la société \; Justice\nTr
	ansformatrice\, Harcèlement Scolaire\, DARVO\, Autoritarisme\, etc. Retrou
	vez tout\nleur contenu sur : https://www.hacking-social.com/\n[https://www
	.hacking-social.com/]\n\nMais le hacking social c’est quoi ?\n\n« Le hacki
	ng social ne porte pas d’idéologie\, de parti politique\, de drapeau. Il\n
	est une méthode plus qu’une doctrine\, méthode qui tend à transformer les\
	nenvironnements sociaux vers plus d’autodétermination des personnes\, plus
	\nd’altruisme\, plus d’autotélisme\, plus d’intelligence sociale\, émotion
	nelle et\ncognitive dans les structures et systèmes\, moins de soufrance\,
	 moins de\ndomination\, moins d’injustices\, moins de discriminations\, mo
	ins de maniulation\,\netc. »\n\nDÈS 12h30 : REPAS ET BOISSONS À PRIX LIBRE
	 AVEC FAIM DE LUTTES\n\nTABLES DE PRESSE / JOURNAL POPULAIRE\n\n
URL:https://agenda.morlaixpopulaire.net/event/1er-mai-conference-de-hacking
	-social-les-autoritaires-que-faire
LOCATION:2D - voie d'accès au Port 29600 Morlaix
STATUS:CONFIRMED
CATEGORIES:Antifascisme,Assemblée Populaire,Conférence
X-ALT-DESC;FMTTYPE=text/html:<p>L'Assemblée Populaire de Morlaix a le plais
	ir de vous proposer un after manif pour le 1er mai !</p><p>Dès 12h30 rejoi
	ns-nous au 2D (voie d'accès au Port) pour un repas et des boissons à PRIX 
	LIBRE préparé par les camarades de FAIM DE LUTTES.</p><p>Puis à 14h30 nous
	 auront la joie de recevoir le collectif Hacking Social pour une conférenc
	e-débat sur l'autoritarisme (sous un angle de psychologie sociale).</p><p>
	Il y aura des tables de presse sur place (Morlaix Antifa et journal Ça Pre
	sse!)</p><p>Et pourquoi pas rester ou revenir le soir à 18h pour l'Assembl
	ée Populaire hebdomadaire ?!</p><p>On vous attend nombreux·ses et déter ! 
	&lt;3</p><p></p><p>14H30&nbsp;: CONFÉRENCE DE HACKING SOCIAL&nbsp;- LES AU
	TORITAIRES, QUE FAIRE&nbsp;?</p><p>Hacking Social, c’est un collectif enga
	gé de vulgarisation scientifique en psychologie sociale&nbsp;! Présent·es 
	sur plein de plateformes, Chayka et Viciss (et leur équipe) produisent une
	 multitude de contenus, toujours en accès libre, pour permettre à touxtes 
	de s’en emparer et de changer la société&nbsp;; Justice Transformatrice, H
	arcèlement Scolaire, DARVO, Autoritarisme, etc. Retrouvez tout leur conten
	u sur : <a href="https://www.hacking-social.com/" target="_blank">https://
	www.hacking-social.com/</a></p><p>Mais le hacking social c’est quoi&nbsp;?
	</p><p>«&nbsp;Le hacking social ne porte pas d’idéologie, de parti politiq
	ue, de drapeau. Il est une méthode plus qu’une doctrine, méthode qui tend 
	à transformer les environnements sociaux vers plus d’autodétermination des
	 personnes, plus d’altruisme, plus d’autotélisme, plus d’intelligence soci
	ale, émotionnelle et cognitive dans les structures et systèmes, moins de s
	oufrance, moins de domination, moins d’injustices, moins de discrimination
	s, moins de maniulation, etc.&nbsp;»</p><p>DÈS 12h30&nbsp;: REPAS ET BOISS
	ONS À PRIX LIBRE AVEC FAIM DE LUTTES</p><p>TABLES DE PRESSE / JOURNAL POPU
	LAIRE</p><p></p>
BEGIN:VALARM
ACTION:DISPLAY
DESCRIPTION:1ER MAI - CONFÉRENCE DE HACKING SOCIAL - Les Autoritaires, que 
	faire ?
TRIGGER:-PT1H
END:VALARM
END:VEVENT
END:VCALENDAR
